BEGIN:VCALENDAR
VERSION:2.0
PRODID:-//jEvents 1.5 for Joomla//EN
CALSCALE:GREGORIAN
METHOD:PUBLISH
BEGIN:VEVENT

UID:3a6217de5089e4ae454ca4de2256b158
CATEGORIES:Bailes
SUMMARY:Baile de Natal
LOCATION:Sede da ACSCE
DESCRIPTION;ENCODING=QUOTED-PRINTABLE:

DTSTAMP:20260420T062746Z
DTSTART:20121225T220000Z
DTEND:20121225T235959Z
SEQUENCE:0
TRANSP:OPAQUE
END:VEVENT
END:VCALENDAR