BEGIN:VCALENDAR
VERSION:2.0
PRODID:-//jEvents 1.5 for Joomla//EN
CALSCALE:GREGORIAN
METHOD:PUBLISH
BEGIN:VEVENT

UID:2bd1e868a52bf1005a093472151929a1
CATEGORIES:Tertúlias da Vila
SUMMARY:Tertúlia "O Fim da educação"
LOCATION:Casa da Cultura de Couto de Esteves
DESCRIPTION;ENCODING=QUOTED-PRINTABLE:<p>A ACSCE e a LANCE têm o prazer de convidar todos vós para a tertúlia/pal
 estra "O Fim da educação", com o professor Arsélio Martins.</p><p> </p><p>E
 ste evento cultural destina-se ao público em geral, revelando-se, no entant
 o, de<span class="text_exposed_show"> toda a importância para os docentes q
 ue nela estejam presentes (será certificada pelo Centro de Formação). <br /
 > <br /> A LANCE associa-se à  ADCL na comemoração do seu 19º  aniversário 
 e irá organizar em parceria com esta associação e a ACSCE  uma caminhada co
 m o percurso Lourizela, Parada, Rio Lordelo, Cascasta da  Agualva, Lourizel
 a. A partida será no Largo da Escola de Lourizela  pelas 10h e 30m. Para a 
 caminhada não será necessária inscrição. O  almoço, facultativo e mediante 
 inscrição, constará de porco no espeto,  sopa , pão, bebidas e será servido
  no Largo da Escola , atual sede da  ADCL (Associação Desportiva e Cultural
  de Lourizela). O preço e o modo  de inscrição serão divulgados em breve.</
 span></p>
X-EXTRAINFO:Não necessita de inscrição prévia.
DTSTAMP:20260420T101639Z
DTSTART:20120310T170000Z
DTEND:20120310T235959Z
SEQUENCE:0
TRANSP:OPAQUE
END:VEVENT
END:VCALENDAR