BEGIN:VCALENDAR
VERSION:2.0
PRODID:-//jEvents 1.5 for Joomla//EN
CALSCALE:GREGORIAN
METHOD:PUBLISH
BEGIN:VEVENT

UID:b492f4b6e698b25e3a0b2b658f35509b
CATEGORIES:Bailes
SUMMARY:Baile de Natal
LOCATION:Sede da Associação
DESCRIPTION;ENCODING=QUOTED-PRINTABLE:<p>Banda LUX</p>

DTSTAMP:20260420T101639Z
DTSTART:20111225T220000Z
DTEND:20111225T235959Z
SEQUENCE:0
RRULE:FREQ=YEARLY;COUNT=1;INTERVAL=1;BYYEARDAY=+359
TRANSP:OPAQUE
END:VEVENT
END:VCALENDAR