BEGIN:VCALENDAR
VERSION:2.0
PRODID:-//jEvents 1.5 for Joomla//EN
CALSCALE:GREGORIAN
METHOD:PUBLISH
BEGIN:VEVENT

UID:5b2f2c5c44c844c5a0722c3923b724a0
CATEGORIES:Atividades
SUMMARY:Caminhada
LOCATION:Largo da Escola de Lourizela
DESCRIPTION;ENCODING=QUOTED-PRINTABLE:<p>A LANCE associa-se à ADCL na comemoração do seu 19º aniversário e irá or
 ganizar em parceria com esta associação e a ACSCE uma caminhada com o percu
 rso Lourizela, Parada, Rio Lordelo, Cascasta da Agualva, Lourizela. A parti
 da será no Largo da Escola de Lourizela pelas 10h e 30m. Não será necessári
 a inscrição.</p><p>O almoço será livre, aconselhando-se:<br />- Restaurante
  “O Júnior”, no lugar de Couto de Cima. O almoço combinado para este evento
  custará 8 euros (sopa, rojões, galo caseiro, batatas a murro, legumes, vin
 ho, água, sumo e cafés), sendo obrigatória marcação prévia pelo telefone 23
 4558249.<br />- Restaurante “O Cantinho da Eira” (966607753/ 918320595), no
  lugar de Couto de Baixo, com marcação prévia, ementa a combinar e preço ta
 belado pelo restaurante.</p>

DTSTAMP:20260420T101638Z
DTSTART:20120310T103000Z
DTEND:20120310T235959Z
SEQUENCE:0
TRANSP:OPAQUE
END:VEVENT
END:VCALENDAR