BEGIN:VCALENDAR
VERSION:2.0
PRODID:-//jEvents 1.5 for Joomla//EN
CALSCALE:GREGORIAN
METHOD:PUBLISH
BEGIN:VEVENT

UID:f237782ee72a816b7b15851ce5d768a7
CATEGORIES:Bailes
SUMMARY:Baile de Carnaval
LOCATION:Sede da ACSCE
DESCRIPTION;ENCODING=QUOTED-PRINTABLE:

DTSTAMP:20260420T163435Z
DTSTART:20120218T223000Z
DTEND:20120218T235959Z
SEQUENCE:0
TRANSP:OPAQUE
END:VEVENT
END:VCALENDAR