BEGIN:VCALENDAR
VERSION:2.0
PRODID:-//jEvents 1.5 for Joomla//EN
CALSCALE:GREGORIAN
METHOD:PUBLISH
BEGIN:VEVENT

UID:45d5a442f7c2bf96534887b33231ca20
CATEGORIES:Atividades
SUMMARY:Colheita de Sangue
LOCATION:Sede da ACSCE.
DESCRIPTION;ENCODING=QUOTED-PRINTABLE:<p>Pelo Centro Regional de Sangue de Coimbra.</p>

DTSTAMP:20260422T120714Z
DTSTART:20120311T090000Z
DTEND:20120311T130000Z
SEQUENCE:0
TRANSP:OPAQUE
END:VEVENT
END:VCALENDAR