BEGIN:VCALENDAR
VERSION:2.0
PRODID:-//jEvents 1.5 for Joomla//EN
CALSCALE:GREGORIAN
METHOD:PUBLISH
BEGIN:VEVENT

UID:726681477842fb6f49ab273ea9ef76f6
CATEGORIES:Teatro
SUMMARY:Peça de teatro ‘’O morto em cuecas’’
LOCATION:Sede da ACSCE
DESCRIPTION;ENCODING=QUOTED-PRINTABLE:<p>Teatro Espontâneo de Macinhata.</p>

DTSTAMP:20260420T134708Z
DTSTART:20120204T213000Z
DTEND:20120204T235959Z
SEQUENCE:0
TRANSP:OPAQUE
END:VEVENT
END:VCALENDAR