BEGIN:VCALENDAR
VERSION:2.0
PRODID:-//jEvents 1.5 for Joomla//EN
CALSCALE:GREGORIAN
METHOD:PUBLISH
BEGIN:VEVENT

UID:8bbcbc4c09c6252a0e495d45e7d29109
CATEGORIES:Tertúlias da Vila
SUMMARY:Tertúlia "Couto de Esteves e os aproveitamentos hidroelétricos"
LOCATION:Casa da Cultura de Couto de Esteves
DESCRIPTION;ENCODING=QUOTED-PRINTABLE:<p>Ribeiradio / Ermida e Lourizela.</p><p>"Não deixem de aparecer, o futuro
  da nossa freguesia e do seu inestimável tesouro ambiental merecem que não 
 fiquemos em casa e que tenhamos uma forte intervenção cívica."</p>

DTSTAMP:20260420T163439Z
DTSTART:20120121T210000Z
DTEND:20120121T235959Z
SEQUENCE:0
TRANSP:OPAQUE
END:VEVENT
END:VCALENDAR