BEGIN:VCALENDAR
VERSION:2.0
PRODID:-//jEvents 1.5 for Joomla//EN
CALSCALE:GREGORIAN
METHOD:PUBLISH
BEGIN:VEVENT

UID:5ddedc25a6c2dbff57de9bd7b95e8eab
CATEGORIES:Tertúlias da Vila
SUMMARY:Tertúlia "O 25 de Abril"
LOCATION:Cada da Cultura de Couto de Esteves
DESCRIPTION;ENCODING=QUOTED-PRINTABLE:

DTSTAMP:20260420T065442Z
DTSTART:20120425T200000Z
DTEND:20120425T225959Z
SEQUENCE:0
TRANSP:OPAQUE
END:VEVENT
END:VCALENDAR