BEGIN:VCALENDAR
VERSION:2.0
PRODID:-//jEvents 1.5 for Joomla//EN
CALSCALE:GREGORIAN
METHOD:PUBLISH
BEGIN:VEVENT

UID:27de2dff8f7a50352f63978267d4860c
CATEGORIES:Atividades
SUMMARY:Limpar Portugal
LOCATION:Freguesia de Couto de Esteves
DESCRIPTION;ENCODING=QUOTED-PRINTABLE:<p>A ACSCE irá associar-se a mais uma edição do LIMPAR PORTUGAL conjuntamen
 te com outras associações e entidades da Freguesia de Couto de Esteves.</p>
X-EXTRAINFO:Parceria LANCE
DTSTAMP:20260420T101637Z
DTSTART:20120324T080000Z
DTEND:20120324T235959Z
SEQUENCE:0
TRANSP:OPAQUE
END:VEVENT
END:VCALENDAR