BEGIN:VCALENDAR
VERSION:2.0
PRODID:-//jEvents 1.5 for Joomla//EN
CALSCALE:GREGORIAN
METHOD:PUBLISH
BEGIN:VEVENT

UID:b954b215b2d8d8cb0463be6eece6d3da
CATEGORIES:Reuniões
SUMMARY:Assembleia Geral Ordinária
LOCATION:Sede da Associação
DESCRIPTION;ENCODING=QUOTED-PRINTABLE:

DTSTAMP:20260420T125132Z
DTSTART:20120107T210000Z
DTEND:20120107T235959Z
SEQUENCE:0
TRANSP:OPAQUE
END:VEVENT
END:VCALENDAR